BEGIN:VCALENDAR
VERSION:2.0
PRODID:-//BOMA Newfoundland &amp; Labrador - ECPv6.15.20//NONSGML v1.0//EN
CALSCALE:GREGORIAN
METHOD:PUBLISH
X-WR-CALNAME:BOMA Newfoundland &amp; Labrador
X-ORIGINAL-URL:https://bomanl.com
X-WR-CALDESC:Events for BOMA Newfoundland &amp; Labrador
REFRESH-INTERVAL;VALUE=DURATION:PT1H
X-Robots-Tag:noindex
X-PUBLISHED-TTL:PT1H
BEGIN:VTIMEZONE
TZID:America/St_Johns
BEGIN:DAYLIGHT
TZOFFSETFROM:-0330
TZOFFSETTO:-0230
TZNAME:NDT
DTSTART:20250309T053000
END:DAYLIGHT
BEGIN:STANDARD
TZOFFSETFROM:-0230
TZOFFSETTO:-0330
TZNAME:NST
DTSTART:20251102T043000
END:STANDARD
BEGIN:DAYLIGHT
TZOFFSETFROM:-0330
TZOFFSETTO:-0230
TZNAME:NDT
DTSTART:20260308T053000
END:DAYLIGHT
BEGIN:STANDARD
TZOFFSETFROM:-0230
TZOFFSETTO:-0330
TZNAME:NST
DTSTART:20261101T043000
END:STANDARD
BEGIN:DAYLIGHT
TZOFFSETFROM:-0330
TZOFFSETTO:-0230
TZNAME:NDT
DTSTART:20270314T053000
END:DAYLIGHT
BEGIN:STANDARD
TZOFFSETFROM:-0230
TZOFFSETTO:-0330
TZNAME:NST
DTSTART:20271107T043000
END:STANDARD
END:VTIMEZONE
BEGIN:VEVENT
DTSTART;TZID=America/St_Johns:20260922T080000
DTEND;TZID=America/St_Johns:20260924T230000
DTSTAMP:20260421T195903
CREATED:20260331T163306Z
LAST-MODIFIED:20260331T163306Z
UID:10000048-1790064000-1790290800@bomanl.com
SUMMARY:BOMEX OTTAWA 2026 - Early Bird Tickets
DESCRIPTION:  \nEarly Bird Registration is ending April 3rd. Click here to get your early bird ticket
URL:https://bomanl.com/event/bomex-ottawa-2026-early-bird-tickets/
LOCATION:Newfoundland
ORGANIZER;CN="BOMA Newfoundland & Labrador":MAILTO:mail@bomanl.com
END:VEVENT
END:VCALENDAR