BEGIN:VCALENDAR
VERSION:2.0
PRODID:-//BOMA Newfoundland &amp; Labrador - ECPv6.15.20//NONSGML v1.0//EN
CALSCALE:GREGORIAN
METHOD:PUBLISH
X-ORIGINAL-URL:https://bomanl.com
X-WR-CALDESC:Events for BOMA Newfoundland &amp; Labrador
REFRESH-INTERVAL;VALUE=DURATION:PT1H
X-Robots-Tag:noindex
X-PUBLISHED-TTL:PT1H
BEGIN:VTIMEZONE
TZID:America/St_Johns
BEGIN:DAYLIGHT
TZOFFSETFROM:-0330
TZOFFSETTO:-0230
TZNAME:NDT
DTSTART:20250309T053000
END:DAYLIGHT
BEGIN:STANDARD
TZOFFSETFROM:-0230
TZOFFSETTO:-0330
TZNAME:NST
DTSTART:20251102T043000
END:STANDARD
BEGIN:DAYLIGHT
TZOFFSETFROM:-0330
TZOFFSETTO:-0230
TZNAME:NDT
DTSTART:20260308T053000
END:DAYLIGHT
BEGIN:STANDARD
TZOFFSETFROM:-0230
TZOFFSETTO:-0330
TZNAME:NST
DTSTART:20261101T043000
END:STANDARD
BEGIN:DAYLIGHT
TZOFFSETFROM:-0330
TZOFFSETTO:-0230
TZNAME:NDT
DTSTART:20270314T053000
END:DAYLIGHT
BEGIN:STANDARD
TZOFFSETFROM:-0230
TZOFFSETTO:-0330
TZNAME:NST
DTSTART:20271107T043000
END:STANDARD
END:VTIMEZONE
BEGIN:VEVENT
DTSTART;TZID=America/St_Johns:20260210T120000
DTEND;TZID=America/St_Johns:20260210T130000
DTSTAMP:20260421T201933
CREATED:20260119T185221Z
LAST-MODIFIED:20260119T193019Z
UID:10000043-1770724800-1770728400@bomanl.com
SUMMARY:Ryan Osborne's Exhausted to Energized Lunch and Learn
DESCRIPTION:BOMA NL Presents : Ryan Osborne – Exhausted to Energized Lunch & Learn \nThe Session will cover the following: \n\nHow to re-prioritize your health\, schedule & better manage your energy\nUnderstanding burnout & strategies to overcome it\nPractical habits to boost your mental and physical well-being\n\nA bit about Ryan: \nRyan provides fitness and lifestyle coaching exclusively for entrepreneurs\, professionals\, and business leaders over 40. \n He is a Kinesiologist and owner of OZ Coaching as well as a Certified Ergonomic Coordinator and corporate wellness consultant. Ryan has 20 years of habitual coaching\, biomechanics\, injury prevention/ergonomic\, healthy lifestyle management experience and have coached well over 1500 business professionals and leaders to regain control of their fitness. \nHe is the creator of The Fit Leaders program with a transform leaders into fit leaders and has coached clients from seven different countries and all industries. \nRyan’s corporate wellness division offers workplace wellness solutions to enhance engagement and culture of healthy\, happy\, and productive employees. \n  \nBeing held at 130 Kelsey Drive\, in the boardroom on main floor from 12:00pm – 1:00pm  on February 10th. Cost is $25 per person
URL:https://bomanl.com/event/exhasuted-to-energized-lunch-and-learn/
LOCATION:130 Kelsey Drive\, 130 Kelsey Drive\, St. John's\, Newfoundland\, Canada
ORGANIZER;CN="BOMA Newfoundland & Labrador":MAILTO:mail@bomanl.com
END:VEVENT
BEGIN:VEVENT
DTSTART;TZID=America/St_Johns:20260430T113000
DTEND;TZID=America/St_Johns:20260430T133000
DTSTAMP:20260421T201933
CREATED:20260129T131113Z
LAST-MODIFIED:20260417T160451Z
UID:10000044-1777548600-1777555800@bomanl.com
SUMMARY:BOMA NL's 2026 AGM & Awards
DESCRIPTION:Join us on the 30th of April from 11:30am to 1:30 pm\, as we celebrate achievements and excellence in the areas of building sustainability\, building management\, and supplier service \nThere will be a 3 course meal provided which includes: Caesar Salad to start\, your choice of Stuffed Chicken Breast or Herb Crusted Cod Fillet followed by Cheesecake with triple berry compote \n  \n Email Amanda at mail@bomanl.com if you have any questions \n  \nThank you to this year’s sponsors: \n  \n                  
URL:https://bomanl.com/event/boma-nls-2026-agm-awards/
LOCATION:Glendenning\, 120 Gabriel Road\, St. John's\, Newfoundland and Labrado...\, A1H 1A5\, Canada
ORGANIZER;CN="BOMA Newfoundland & Labrador":MAILTO:mail@bomanl.com
END:VEVENT
BEGIN:VEVENT
DTSTART;TZID=America/St_Johns:20260922T080000
DTEND;TZID=America/St_Johns:20260924T230000
DTSTAMP:20260421T201933
CREATED:20260331T163306Z
LAST-MODIFIED:20260331T163306Z
UID:10000048-1790064000-1790290800@bomanl.com
SUMMARY:BOMEX OTTAWA 2026 - Early Bird Tickets
DESCRIPTION:  \nEarly Bird Registration is ending April 3rd. Click here to get your early bird ticket
URL:https://bomanl.com/event/bomex-ottawa-2026-early-bird-tickets/
LOCATION:Newfoundland
ORGANIZER;CN="BOMA Newfoundland & Labrador":MAILTO:mail@bomanl.com
END:VEVENT
END:VCALENDAR